BEGIN:VCALENDAR
VERSION:2.0
PRODID:-//https://www.ischiaeventi.com///NONSGML kigkonsult.se iCalcreator 2.10.15//
METHOD:PUBLISH
BEGIN:VEVENT
UID:20260420T125645UTC-1826kJszOJ@https://www.ischiaeventi.com/
DTSTAMP:20260420T125645Z
DESCRIPTION:19.00 ZAMPOGNE E CIARAMELLE OLTRE IL NATALE sapori e suoni anti
 chi assieme con le tradizionali figure storiche degli zampognari nel Centr
 o Storico di Forio\n&nbsp\; https://www.ischiaeventi.com/eventi-ad-ischia/
 tradizioni/gastronomia/evento/34119-forio-merryland-zampogne-e-ciaramelle-
 oltre-il-natale
DTSTART:20241226T180000Z
DTEND:20241226T210000Z
LOCATION:Comune di Forio (Piazza Municipio\, 1\, 80075 Forio NA\, Italia)
SUMMARY:Forio MerryLand: ZAMPOGNE E CIARAMELLE OLTRE IL NATALE
URL:https://www.ischiaeventi.com/eventi-ad-ischia/tradizioni/gastronomia/ev
 ento/34119-forio-merryland-zampogne-e-ciaramelle-oltre-il-natale
END:VEVENT
END:VCALENDAR
