BEGIN:VCALENDAR
VERSION:2.0
PRODID:-//https://www.ischiaeventi.com///NONSGML kigkonsult.se iCalcreator 2.10.15//
METHOD:PUBLISH
BEGIN:VEVENT
UID:20260420T113403UTC-3289uNE3Hk@https://www.ischiaeventi.com/
DTSTAMP:20260420T113403Z
DESCRIPTION:12.00 XMAS EVE BRUNCH il famoso brunch foriano con musica diffu
 sa e assaggi delle nostre specialità gastronomiche per le strade del paese
  a cura dei ristoratori locali\n&nbsp\; https://www.ischiaeventi.com/event
 i-ad-ischia/tradizioni/gastronomia/evento/34115-forio-merryland-xmas-eve-b
 runch
DTSTART:20241224T110000Z
DTEND:20241224T130000Z
LOCATION:Comune di Forio (Piazza Municipio\, 1\, 80075 Forio NA\, Italia)
SUMMARY:Forio MerryLand: XMAS EVE BRUNCH
URL:https://www.ischiaeventi.com/eventi-ad-ischia/tradizioni/gastronomia/ev
 ento/34115-forio-merryland-xmas-eve-brunch
END:VEVENT
END:VCALENDAR
