BEGIN:VCALENDAR
VERSION:2.0
PRODID:-//https://www.ischiaeventi.com///NONSGML kigkonsult.se iCalcreator 2.10.15//
METHOD:PUBLISH
BEGIN:VEVENT
UID:20260420T112908UTC-32646HRLlx@https://www.ischiaeventi.com/
DTSTAMP:20260420T112908Z
DESCRIPTION:12.00 BRUNCH DI NATALE intrattenimento musicale e gustosi piatt
 i tipici locali per il Corso di Panza https://www.ischiaeventi.com/eventi-
 ad-ischia/tradizioni/gastronomia/evento/34104-forio-merryland-brunch-di-na
 tale
DTSTART:20241222T110000Z
DTEND:20241222T130000Z
LOCATION:Comune di Forio (Piazza Municipio\, 1\, 80075 Forio NA\, Italia)
SUMMARY:Forio MerryLand: BRUNCH DI NATALE
URL:https://www.ischiaeventi.com/eventi-ad-ischia/tradizioni/gastronomia/ev
 ento/34104-forio-merryland-brunch-di-natale
END:VEVENT
END:VCALENDAR
