BEGIN:VCALENDAR
VERSION:2.0
PRODID:-//https://www.ischiaeventi.com///NONSGML kigkonsult.se iCalcreator 2.10.15//
METHOD:PUBLISH
BEGIN:VEVENT
UID:20260420T113020UTC-5108uIst8u@https://www.ischiaeventi.com/
DTSTAMP:20260420T113020Z
DESCRIPTION:17.00 TOMBOLA DI MONTERONE la classica tombola di Natale in pia
 zza arricchita da piatti tipici locali e bevande calde e premi natalizi pe
 r i vincitori in Piazza Monterone Forio https://www.ischiaeventi.com/event
 i-ad-ischia/tradizioni/gastronomia/evento/34101-forio-merryland-tombola-di
 -monterone
DTSTART:20241220T160000Z
DTEND:20241220T170000Z
LOCATION:Comune di Forio (Piazza Municipio\, 1\, 80075 Forio NA\, Italia)
SUMMARY:Forio MerryLand: TOMBOLA DI MONTERONE 
URL:https://www.ischiaeventi.com/eventi-ad-ischia/tradizioni/gastronomia/ev
 ento/34101-forio-merryland-tombola-di-monterone
END:VEVENT
END:VCALENDAR
