BEGIN:VCALENDAR
VERSION:2.0
PRODID:-//https://www.ischiaeventi.com///NONSGML kigkonsult.se iCalcreator 2.10.15//
METHOD:PUBLISH
BEGIN:VEVENT
UID:20260420T115207UTC-5198VOKIHh@https://www.ischiaeventi.com/
DTSTAMP:20260420T115207Z
DESCRIPTION:MUSIC LIVE SHOWitinerante\nalle ore 21:00PIAZZA C. COLOMBOaspet
 tando “i fuochi” https://www.ischiaeventi.com/eventi-ad-ischia/tradizioni/
 gastronomia/evento/30760-calici-di-cultura-music-live-show-aspettando-i-fu
 ochi-di-artificio
DTSTART:20240616T170000Z
DTEND:20240616T190000Z
LOCATION:Piazzale Cristoforo Colombo (Via Cristoforo Colombo\, 80075 Forio 
 NA\, Italia)
SUMMARY:Calici di cultura: music live show -  aspettando i fuochi di artifi
 cio
URL:https://www.ischiaeventi.com/eventi-ad-ischia/tradizioni/gastronomia/ev
 ento/30760-calici-di-cultura-music-live-show-aspettando-i-fuochi-di-artifi
 cio
END:VEVENT
END:VCALENDAR
