BEGIN:VCALENDAR
VERSION:2.0
PRODID:-//https://www.ischiaeventi.com///NONSGML kigkonsult.se iCalcreator 2.10.15//
METHOD:PUBLISH
BEGIN:VEVENT
UID:20260420T112611UTC-45371urpec@https://www.ischiaeventi.com/
DTSTAMP:20260420T112611Z
DESCRIPTION:Una festa che racconta la storia della nostra comunità\, tra vi
 no e cibo locale e danze popolari: sapori\, odori\, emozioni di una Forio 
 che non c’è più. https://www.ischiaeventi.com/eventi-ad-ischia/tradizioni/
 gastronomia/evento/29259-monterone-in-festa
DTSTART;VALUE=DATE:20240720
LOCATION:Forio d’Ischia (80075 Forio NA\, Italia)
SUMMARY:Monterone in festa
URL:https://www.ischiaeventi.com/eventi-ad-ischia/tradizioni/gastronomia/ev
 ento/29259-monterone-in-festa
END:VEVENT
END:VCALENDAR
