BEGIN:VCALENDAR
VERSION:2.0
PRODID:-//https://www.ischiaeventi.com///NONSGML kigkonsult.se iCalcreator 2.10.15//
METHOD:PUBLISH
BEGIN:VEVENT
UID:20260420T100835UTC-9931K2IlU7@https://www.ischiaeventi.com/
DTSTAMP:20260420T100835Z
DESCRIPTION:VI ASPETTIAMO DOMANI IN PIAZZA SANTA RESTITUTA PER FESTEGGIARE 
 IL CARNEVALE INSIEME! dalle ore 14.30Con musica\, balli\, sfilata delle ma
 scherine\, spettacolo per bambini\, pop corn e zucchero filato!\n&nbsp\; h
 ttps://www.ischiaeventi.com/eventi-ad-ischia/tradizioni/gastronomia/evento
 /28425-carnevale-insieme
DTSTART:20240213T133000Z
DTEND:20240213T170000Z
LOCATION:Piazza S. Restituta (Piazza Santa Restituta\, 80076 Lacco Ameno NA
 \, Italia)
SUMMARY:Carnevale insieme
URL:https://www.ischiaeventi.com/eventi-ad-ischia/tradizioni/gastronomia/ev
 ento/28425-carnevale-insieme
END:VEVENT
END:VCALENDAR
