BEGIN:VCALENDAR
VERSION:2.0
PRODID:-//https://www.ischiaeventi.com///NONSGML kigkonsult.se iCalcreator 2.10.15//
METHOD:PUBLISH
BEGIN:VEVENT
UID:20260420T111423UTC-6044Vux0C7@https://www.ischiaeventi.com/
DTSTAMP:20260420T111423Z
DESCRIPTION:Un percorso laboratoriale dedicato ai giovani che desiderano av
 vicinarsi al teatro\, sperimentare linguaggi espressivi e mettersi in gioc
 o in un’esperienza creativa e formativa.\n6 marzo 2026Ore 19:00\n\n&nbsp\;
 Sala consiliare – Ex Municipio\, Forio\n\nConducono:\n\nAlessandra Criscuo
 lo\nValentina Lucilla Di Genio\nCorrado Visone\n\nPer info e adesioni: 331
  2381378 (WhatsApp)\nUn’occasione preziosa per crescere insieme attraverso
  l’arte\, la cultura e la condivisione.\n https://www.ischiaeventi.com/eve
 nti-ad-ischia/tradizioni/gastronomia/evento/249620-laboratorio-teatrale-gr
 atuito-per-ragazzi-dai-16-ai-26-anni
DTSTART:20260306T180000Z
DTEND:20260306T200000Z
LOCATION:sala consiliare Mazzella  (80075 Forio NA\, Italia)
SUMMARY:Laboratorio teatrale gratuito per ragazzi dai 16 ai 26 anni
URL:https://www.ischiaeventi.com/eventi-ad-ischia/tradizioni/gastronomia/ev
 ento/249620-laboratorio-teatrale-gratuito-per-ragazzi-dai-16-ai-26-anni
END:VEVENT
END:VCALENDAR
