BEGIN:VCALENDAR
VERSION:2.0
PRODID:-//https://www.ischiaeventi.com///NONSGML kigkonsult.se iCalcreator 2.10.15//
METHOD:PUBLISH
BEGIN:VEVENT
UID:20260420T083949UTC-7279tBIvRJ@https://www.ischiaeventi.com/
DTSTAMP:20260420T083949Z
DESCRIPTION:Scenografie a tema\, postazioni foto\, artisti di strada\, spet
 tacolo bolle di sapone\, trucca bimbi e tanto altro ancora.CORSO FRANCESCO
  REGINEOrganizzato da:CHIAIA E DINTORNI 2.07 lacrol onfe EVENTS CREATORASS
 OCIAZIONE https://www.ischiaeventi.com/eventi-ad-ischia/tradizioni/gastron
 omia/evento/249542-forio-kids-in-love
DTSTART:20260215T163000Z
DTEND:20260215T180000Z
LOCATION:Corso Francesco Regine (Via Avvocato Francesco Regine\, 80075 Fori
 o NA\, Italia)
SUMMARY:Forio Kids in Love
URL:https://www.ischiaeventi.com/eventi-ad-ischia/tradizioni/gastronomia/ev
 ento/249542-forio-kids-in-love
END:VEVENT
END:VCALENDAR
