BEGIN:VCALENDAR
VERSION:2.0
PRODID:-//https://www.ischiaeventi.com///NONSGML kigkonsult.se iCalcreator 2.10.15//
METHOD:PUBLISH
BEGIN:VEVENT
UID:20260420T125646UTC-01481XTW7M@https://www.ischiaeventi.com/
DTSTAMP:20260420T125646Z
DESCRIPTION:18.00 Con Stefano nel cuore: un goal per la vita! Per ricordare
  Stefano Cavallo attraverso le sue passioni del calcio e del&nbsp\;food pr
 esso lo stadio “S. Calise” https://www.ischiaeventi.com/eventi-ad-ischia/t
 radizioni/gastronomia/evento/249084-natale-a-forio-2025-con-stefano-nel-cu
 ore-un-goal-per-la-vita
DTSTART:20251209T170000Z
DTEND:20251209T195900Z
LOCATION:Comune di Forio (Piazza Municipio\, 1\, 80075 Forio NA\, Italia)
SUMMARY:Natale a Forio 2025: con Stefano nel cuore: un goal per la vita!
URL:https://www.ischiaeventi.com/eventi-ad-ischia/tradizioni/gastronomia/ev
 ento/249084-natale-a-forio-2025-con-stefano-nel-cuore-un-goal-per-la-vita
END:VEVENT
END:VCALENDAR
