BEGIN:VCALENDAR
VERSION:2.0
PRODID:-//https://www.ischiaeventi.com///NONSGML kigkonsult.se iCalcreator 2.10.15//
METHOD:PUBLISH
BEGIN:VEVENT
UID:20260420T114441UTC-6579NpO5ao@https://www.ischiaeventi.com/
DTSTAMP:20260420T114441Z
DESCRIPTION:20.00 Inaugurazione della pista di ghiaccio con spettacolo sul 
 ghiaccio in Piazzale C. Colombo20.30 Switch on - Che luce sia! Accensione 
 delle luminarie natalizie con effetti speciali e tante sorprese con spetta
 colo di luci\, musica e sogni per far brillare gli occhi di grandi e picci
 ni in Piazzale C. Colombo e lungo il Corso di Forio https://www.ischiaeven
 ti.com/eventi-ad-ischia/tradizioni/gastronomia/evento/249081-natale-a-fori
 o-2025-inaugurazione-della-pista-di-ghiaccio
DTSTART:20251206T190000Z
DTEND:20251206T221600Z
LOCATION:Comune di Forio (Piazza Municipio\, 1\, 80075 Forio NA\, Italia)
SUMMARY:Natale a Forio 2025: Inaugurazione della pista di ghiaccio 
URL:https://www.ischiaeventi.com/eventi-ad-ischia/tradizioni/gastronomia/ev
 ento/249081-natale-a-forio-2025-inaugurazione-della-pista-di-ghiaccio
END:VEVENT
END:VCALENDAR
