BEGIN:VCALENDAR
VERSION:2.0
PRODID:-//https://www.ischiaeventi.com///NONSGML kigkonsult.se iCalcreator 2.10.15//
METHOD:PUBLISH
BEGIN:VEVENT
UID:20260420T112150UTC-8704VN7t2s@https://www.ischiaeventi.com/
DTSTAMP:20260420T112150Z
DESCRIPTION:Il Comune di Forio invita la cittadinanza a partecipare allo sp
 ettacolo “Una. Nessuna. Centomila – Tra Musica e Parole per i diritti dell
 e donne”\, un momento di riflessione e sensibilizzazione dedicato al contr
 asto della violenza di genere. https://www.ischiaeventi.com/eventi-ad-isch
 ia/tradizioni/gastronomia/evento/249038-una-nessuna-centomila
DTSTART:20251125T190000Z
DTEND:20251125T224100Z
LOCATION:Chiesina delle Rose (Via Monsignor Filippo Schioppa\, 80075 Forio 
 NA\, Italia)
SUMMARY:UNA. NESSUNA. CENTOMILA.
URL:https://www.ischiaeventi.com/eventi-ad-ischia/tradizioni/gastronomia/ev
 ento/249038-una-nessuna-centomila
END:VEVENT
END:VCALENDAR
