BEGIN:VCALENDAR
VERSION:2.0
PRODID:-//https://www.ischiaeventi.com///NONSGML kigkonsult.se iCalcreator 2.10.15//
METHOD:PUBLISH
BEGIN:VEVENT
UID:20260420T100919UTC-3583uxIbpu@https://www.ischiaeventi.com/
DTSTAMP:20260420T100919Z
DESCRIPTION:I festeggiamenti in onore di San Michele Arcangelo a Sant'Angel
 o d'Ischia&nbsp\;si celebrano ogni anno il 29 e 30 settembre&nbsp\;e inclu
 dono la processione del Santo in barca al tramonto del 30 settembre\, acco
 mpagnata da fuochi d'artificio e musica\, oltre a messe solenni\, concerti
  e bancarelle di artigianato e prodotti tipici. https://www.ischiaeventi.c
 om/eventi-ad-ischia/tradizioni/gastronomia/evento/219231-festeggiamenti-in
 -onore-di-san-michele-arcangelo
DTSTART:20260929T060000Z
DTEND:20260929T213000Z
LOCATION:Piazza Sant'Angelo  (80070 Serrara Fontana NA\, Italia)
SUMMARY:Festeggiamenti in onore di San Michele Arcangelo
URL:https://www.ischiaeventi.com/eventi-ad-ischia/tradizioni/gastronomia/ev
 ento/219231-festeggiamenti-in-onore-di-san-michele-arcangelo
END:VEVENT
END:VCALENDAR
