BEGIN:VCALENDAR
VERSION:2.0
PRODID:-//https://www.ischiaeventi.com///NONSGML kigkonsult.se iCalcreator 2.10.15//
METHOD:PUBLISH
BEGIN:VEVENT
UID:20260420T113156UTC-3812gNVifl@https://www.ischiaeventi.com/
DTSTAMP:20260420T113156Z
DESCRIPTION:Cosa vi aspetta:Stand enogastronomici con specialità localiDegu
 stazione del vino delle colline panzesiMusica e spettacolo con:– I Bottari
  – Cantica Popolare– Street Band Aurora– La tradizionale ‘Ndrezzata Ischit
 ana\nUn’esperienza autentica\, tra folklore\, gusto e convivialità.Non man
 care alla magia della vendemmia! https://www.ischiaeventi.com/eventi-ad-is
 chia/tradizioni/gastronomia/evento/152650-la-notte-della-vendemmia---vi-ed
 izione
DTSTART:20250920T173000Z
DTEND:20250920T213000Z
LOCATION:Panza (Piazza San Leonardo - 80075 Panza Forio)
SUMMARY:LA NOTTE DELLA VENDEMMIA – VI Edizione
URL:https://www.ischiaeventi.com/eventi-ad-ischia/tradizioni/gastronomia/ev
 ento/152650-la-notte-della-vendemmia---vi-edizione
END:VEVENT
END:VCALENDAR
