BEGIN:VCALENDAR
VERSION:2.0
PRODID:-//https://www.ischiaeventi.com///NONSGML kigkonsult.se iCalcreator 2.10.15//
METHOD:PUBLISH
BEGIN:VEVENT
UID:20260424T091040UTC-8010thuXMN@https://www.ischiaeventi.com/
DTSTAMP:20260424T091040Z
DESCRIPTION:Paolo Belli e la sua band in concerto a Sant'Angelo domenica 29
  settembre alle 22:00 https://www.ischiaeventi.com/eventi-ad-ischia/tradiz
 ioni/feste-religiose-e-patronali/evento/33144-paolo-belli-in-concerto
DTSTART:20240929T200000Z
DTEND:20240929T215900Z
LOCATION:Borgo di Sant'Angelo (Via Nazario Sauro\, Sant'angelo NA\, Italia)
SUMMARY:Paolo Belli in concerto
URL:https://www.ischiaeventi.com/eventi-ad-ischia/tradizioni/feste-religios
 e-e-patronali/evento/33144-paolo-belli-in-concerto
END:VEVENT
END:VCALENDAR
