BEGIN:VCALENDAR
VERSION:2.0
PRODID:-//https://www.ischiaeventi.com///NONSGML kigkonsult.se iCalcreator 2.10.15//
METHOD:PUBLISH
BEGIN:VEVENT
UID:20260424T110128UTC-0132V4ENeI@https://www.ischiaeventi.com/
DTSTAMP:20260424T110128Z
DESCRIPTION:Voci e note del Rione Sanità https://www.ischiaeventi.com/event
 i-ad-ischia/tradizioni/feste-religiose-e-patronali/evento/32320-estate-ins
 ieme-lacco-ameno-facimmo-ammuina
DTSTART:20240927T193000Z
DTEND:20240927T203000Z
LOCATION:Piazza Santa Restituta  (Piazza Santa Restituta\, 80076 Lacco Amen
 o NA\, Italia)
SUMMARY:Estate insieme Lacco Ameno: FACIMMO AMMUINA
URL:https://www.ischiaeventi.com/eventi-ad-ischia/tradizioni/feste-religios
 e-e-patronali/evento/32320-estate-insieme-lacco-ameno-facimmo-ammuina
END:VEVENT
END:VCALENDAR
