BEGIN:VCALENDAR
VERSION:2.0
PRODID:-//https://www.ischiaeventi.com///NONSGML kigkonsult.se iCalcreator 2.10.15//
METHOD:PUBLISH
BEGIN:VEVENT
UID:20260424T093646UTC-6159hLruvv@https://www.ischiaeventi.com/
DTSTAMP:20260424T093646Z
DESCRIPTION:HERE I AM! Raccolta fondi per la ricerca sulle malattie oncolog
 iche. Andrea De Siano e Raffaele Mirelli dialogano sulla felicità e sull'a
 rtificio dell'identità insieme agli oncologi dell'ASL Napoli 2 Nord Robert
 o Mabilia e Maurizio Matarese https://www.ischiaeventi.com/eventi-ad-ischi
 a/tradizioni/feste-religiose-e-patronali/evento/32316-estate-insieme-lacco
 -ameno-in-philosophy-festival
DTSTART:20240914T183000Z
DTEND:20240914T213000Z
LOCATION:Villa Arbusto (Corso Angelo Rizzoli\, 194\, 80076 Lacco Ameno NA\,
  Italia)
SUMMARY:Estate insieme Lacco Ameno: IN/PHILOSOPHY FESTIVAL
URL:https://www.ischiaeventi.com/eventi-ad-ischia/tradizioni/feste-religios
 e-e-patronali/evento/32316-estate-insieme-lacco-ameno-in-philosophy-festiv
 al
END:VEVENT
END:VCALENDAR
