BEGIN:VCALENDAR
VERSION:2.0
PRODID:-//https://www.ischiaeventi.com///NONSGML kigkonsult.se iCalcreator 2.10.15//
METHOD:PUBLISH
BEGIN:VEVENT
UID:20260424T122523UTC-3939SlXBJo@https://www.ischiaeventi.com/
DTSTAMP:20260424T122523Z
DESCRIPTION:Concerto della pianista Dina Ivanova a cura dell'Associazione N
 ote sul mare https://www.ischiaeventi.com/eventi-ad-ischia/tradizioni/fest
 e-religiose-e-patronali/evento/31651-e-state-insieme-a-lacco-ameno-ischia-
 classica-festival-note-sul-mare-2024
DTSTART:20240807T190000Z
DTEND:20240807T212300Z
LOCATION:Villa Arbusto (Corso Angelo Rizzoli\, 194\, 80076 Lacco Ameno NA\,
  Italia)
SUMMARY:E-state insieme a Lacco Ameno: 'ISCHIA CLASSICA FESTIVAL NOTE SUL M
 ARE 2024
URL:https://www.ischiaeventi.com/eventi-ad-ischia/tradizioni/feste-religios
 e-e-patronali/evento/31651-e-state-insieme-a-lacco-ameno-ischia-classica-f
 estival-note-sul-mare-2024
END:VEVENT
END:VCALENDAR
