BEGIN:VCALENDAR
VERSION:2.0
PRODID:-//https://www.ischiaeventi.com///NONSGML kigkonsult.se iCalcreator 2.10.15//
METHOD:PUBLISH
BEGIN:VEVENT
UID:20260424T064248UTC-17062zV3F9@https://www.ischiaeventi.com/
DTSTAMP:20260424T064248Z
DESCRIPTION:La mostra è visitabile dal martedì alla domenica dalle 19.00 al
 le 24.00\, i quadri in esposizione sono disponibili per eventuali acquisti
 . https://www.ischiaeventi.com/eventi-ad-ischia/tradizioni/feste-religiose
 -e-patronali/evento/29130-mostra-fotografica-punti-di-vista
DTSTART;VALUE=DATE:20240413
LOCATION:Kiwi Jam (Via Luigi Mazzella\, 42\, 80077 Ischia NA\, Italia)
SUMMARY:Mostra fotografica punti di vista
URL:https://www.ischiaeventi.com/eventi-ad-ischia/tradizioni/feste-religios
 e-e-patronali/evento/29130-mostra-fotografica-punti-di-vista
END:VEVENT
END:VCALENDAR
