BEGIN:VCALENDAR
VERSION:2.0
PRODID:-//https://www.ischiaeventi.com///NONSGML kigkonsult.se iCalcreator 2.10.15//
METHOD:PUBLISH
BEGIN:VEVENT
UID:20260424T075757UTC-6211Nozol6@https://www.ischiaeventi.com/
DTSTAMP:20260424T075757Z
DESCRIPTION:Solenne Processione Penitenziale con la venerata immagine di Ma
 ria SS. Addolorata per le strade di Forio.La processione farà rientro per 
 via Casa di Maio. https://www.ischiaeventi.com/eventi-ad-ischia/tradizioni
 /feste-religiose-e-patronali/evento/249730-copia-da-solenne-settenario-in-
 onore-di-maria-ss-ma-addolorata
DTSTART:20260327T100000Z
DTEND:20260327T123000Z
LOCATION:Forio d’Ischia (80075 Forio NA\, Italia)
SUMMARY:Copia da Solenne settenario in onore di Maria SS.ma Addolorata
URL:https://www.ischiaeventi.com/eventi-ad-ischia/tradizioni/feste-religios
 e-e-patronali/evento/249730-copia-da-solenne-settenario-in-onore-di-maria-
 ss-ma-addolorata
END:VEVENT
END:VCALENDAR
