BEGIN:VCALENDAR
VERSION:2.0
PRODID:-//https://www.ischiaeventi.com///NONSGML kigkonsult.se iCalcreator 2.10.15//
METHOD:PUBLISH
BEGIN:VEVENT
UID:20260421T031906UTC-2548EeTx9c@https://www.ischiaeventi.com/
DTSTAMP:20260421T031906Z
DESCRIPTION:TABLEAUX VIVANTS DA ARTEMISIA GENTILESCHI* Basilica di Santa Ma
 ria Maddalena 16:00 https://www.ischiaeventi.com/eventi-ad-ischia/tradizio
 ni/evento/38448-natale-a-casamicciola-tableaux-vivants-da-artemisia-gentil
 eschi
DTSTART:20241227T150000Z
DTEND:20241227T170000Z
LOCATION:Chiesa parrocchiale Santa Maria Maddalena (Via Giuseppe Garibaldi\
 , 80074 Casamicciola Terme NA\, Italia)
SUMMARY:Natale a Casamicciola: TABLEAUX VIVANTS DA ARTEMISIA GENTILESCHI
URL:https://www.ischiaeventi.com/eventi-ad-ischia/tradizioni/evento/38448-n
 atale-a-casamicciola-tableaux-vivants-da-artemisia-gentileschi
END:VEVENT
END:VCALENDAR
