BEGIN:VCALENDAR
VERSION:2.0
PRODID:-//https://www.ischiaeventi.com///NONSGML kigkonsult.se iCalcreator 2.10.15//
METHOD:PUBLISH
BEGIN:VEVENT
UID:20260421T031856UTC-4671NuZ0p2@https://www.ischiaeventi.com/
DTSTAMP:20260421T031856Z
DESCRIPTION:BABBO NATALE IN CARROZZA Papà Natale sfila per le piazze princi
 pali di Casamicciola dalle 10:00 https://www.ischiaeventi.com/eventi-ad-is
 chia/tradizioni/evento/38446-natale-a-casamicciola-babbo-natale-in-carrozz
 a
DTSTART:20241224T090000Z
DTEND:20241224T120000Z
LOCATION:Piazza Marina Casamicciola Terme (Corso Luigi Manzi\, 1\, 80074 Ca
 samicciola Terme NA\, Italy)
SUMMARY:Natale a Casamicciola: BABBO NATALE IN CARROZZA
URL:https://www.ischiaeventi.com/eventi-ad-ischia/tradizioni/evento/38446-n
 atale-a-casamicciola-babbo-natale-in-carrozza
END:VEVENT
END:VCALENDAR
