BEGIN:VCALENDAR
VERSION:2.0
PRODID:-//https://www.ischiaeventi.com///NONSGML kigkonsult.se iCalcreator 2.10.15//
METHOD:PUBLISH
BEGIN:VEVENT
UID:20260421T030144UTC-3350HifZu4@https://www.ischiaeventi.com/
DTSTAMP:20260421T030144Z
DESCRIPTION:CASAMICCIOLA IN BRUNCH Live music ed animazione per i bambini p
 iazza Marina e corso L. Manzi dalle 11:00 https://www.ischiaeventi.com/eve
 nti-ad-ischia/tradizioni/evento/38444-natale-a-casamicciola-casamicciola-i
 n-brunch
DTSTART:20241222T100000Z
DTEND:20241222T140000Z
LOCATION:Chiesa del Buon Consiglio (Corso Luigi Manzi\, 5\, 80074 Casamicci
 ola Terme NA\, Italia)
SUMMARY:Natale a Casamicciola: CASAMICCIOLA IN BRUNCH
URL:https://www.ischiaeventi.com/eventi-ad-ischia/tradizioni/evento/38444-n
 atale-a-casamicciola-casamicciola-in-brunch
END:VEVENT
END:VCALENDAR
