BEGIN:VCALENDAR
VERSION:2.0
PRODID:-//https://www.ischiaeventi.com///NONSGML kigkonsult.se iCalcreator 2.10.15//
METHOD:PUBLISH
BEGIN:VEVENT
UID:20260421T030104UTC-5449U2znKu@https://www.ischiaeventi.com/
DTSTAMP:20260421T030104Z
DESCRIPTION: https://www.ischiaeventi.com/eventi-ad-ischia/tradizioni/event
 o/31457-casamicciola-sapori-e-tradizioni
DTSTART:20240721T190000Z
DTEND:20240721T213900Z
LOCATION:Corso Luigi Manzi\, 95\, 80074 Casamicciola Terme NA\, Italia ()
SUMMARY:Casamicciola: sapori e tradizioni
URL:https://www.ischiaeventi.com/eventi-ad-ischia/tradizioni/evento/31457-c
 asamicciola-sapori-e-tradizioni
END:VEVENT
END:VCALENDAR
