BEGIN:VCALENDAR
VERSION:2.0
PRODID:-//https://www.ischiaeventi.com///NONSGML kigkonsult.se iCalcreator 2.10.15//
METHOD:PUBLISH
BEGIN:VEVENT
UID:20260421T030108UTC-15311HBLh5@https://www.ischiaeventi.com/
DTSTAMP:20260421T030108Z
DESCRIPTION:Raf in concerto https://www.ischiaeventi.com/eventi-ad-ischia/t
 radizioni/evento/31006-raf-in-concerto
DTSTART:20240722T193000Z
DTEND:20240722T215900Z
LOCATION:Piazzale Anna De Felice  (80074 Casamicciola Terme NA\, Italia)
SUMMARY:Raf in concerto
URL:https://www.ischiaeventi.com/eventi-ad-ischia/tradizioni/evento/31006-r
 af-in-concerto
END:VEVENT
END:VCALENDAR
