BEGIN:VCALENDAR
VERSION:2.0
PRODID:-//https://www.ischiaeventi.com///NONSGML kigkonsult.se iCalcreator 2.10.15//
METHOD:PUBLISH
BEGIN:VEVENT
UID:20260421T030104UTC-5452G9V1kz@https://www.ischiaeventi.com/
DTSTAMP:20260421T030104Z
DESCRIPTION:Orchestra verticale: concerto per la pace https://www.ischiaeve
 nti.com/eventi-ad-ischia/tradizioni/evento/249361-natale-a-casamicciola-or
 chestra-verticale
DTSTART:20251222T183000Z
DTEND:20251222T200000Z
LOCATION:Chiesa parrocchiale Santa Maria Maddalena (Via Giuseppe Garibaldi\
 , 80074 Casamicciola Terme NA\, Italia)
SUMMARY:Natale a Casamicciola:  Orchestra verticale
URL:https://www.ischiaeventi.com/eventi-ad-ischia/tradizioni/evento/249361-
 natale-a-casamicciola-orchestra-verticale
END:VEVENT
END:VCALENDAR
