BEGIN:VCALENDAR
VERSION:2.0
PRODID:-//https://www.ischiaeventi.com///NONSGML kigkonsult.se iCalcreator 2.10.15//
METHOD:PUBLISH
BEGIN:VEVENT
UID:20260424T120121UTC-6300twwnhV@https://www.ischiaeventi.com/
DTSTAMP:20260424T120121Z
DESCRIPTION:PIAZZALE DEL SOCCORSO ORE 20:30 SCHOOL OF ROCK&nbsp\;farà esibi
 re bassisti\, chitarristi e 25 batteristi che suoneranno note sotto le ste
 lle https://www.ischiaeventi.com/eventi-ad-ischia/intrattenimento/evento/9
 8007-note-nella-notte
DTSTART:20250701T183000Z
DTEND:20250701T213000Z
LOCATION:Piazzale del Soccorso (Via del Soccorso\, 6\, 80075 Forio NA\, Ita
 lia)
SUMMARY:Note nella notte
URL:https://www.ischiaeventi.com/eventi-ad-ischia/intrattenimento/evento/98
 007-note-nella-notte
END:VEVENT
END:VCALENDAR
