BEGIN:VCALENDAR
VERSION:2.0
PRODID:-//https://www.ischiaeventi.com///NONSGML kigkonsult.se iCalcreator 2.10.15//
METHOD:PUBLISH
BEGIN:VEVENT
UID:20260424T082106UTC-1958wP1Ffn@https://www.ischiaeventi.com/
DTSTAMP:20260424T082106Z
DESCRIPTION:Il grande cantautore partenopeo ci incanterà con un raffinato c
 oncerto in chiave jazz.\n&nbsp\;\n&nbsp\; https://www.ischiaeventi.com/eve
 nti-ad-ischia/intrattenimento/evento/81007-festeggiamenti-in-onore-di-san-
 vito-nino-buonocore-in-jazz-live
DTSTART:20250617T193000Z
DTEND:20250617T213000Z
LOCATION:Porto di Forio (Porto di Forio\, 80075 Forio NA\, Italia)
SUMMARY:Festeggiamenti in onore di San Vito: Nino Buonocore in Jazz Live
URL:https://www.ischiaeventi.com/eventi-ad-ischia/intrattenimento/evento/81
 007-festeggiamenti-in-onore-di-san-vito-nino-buonocore-in-jazz-live
END:VEVENT
END:VCALENDAR
