BEGIN:VCALENDAR
VERSION:2.0
PRODID:-//https://www.ischiaeventi.com///NONSGML kigkonsult.se iCalcreator 2.10.15//
METHOD:PUBLISH
BEGIN:VEVENT
UID:20260424T052003UTC-7652Fbvpj2@https://www.ischiaeventi.com/
DTSTAMP:20260424T052003Z
DESCRIPTION:20.00 XMAS DRAGODI evento settimanale del calendario dedicato a
 gli appassionati di giochi da tavolo e giochi di ruolo nel Salone di San M
 ichele in Monterone Forio&nbsp\; https://www.ischiaeventi.com/eventi-ad-is
 chia/intrattenimento/evento/34089-forio-merryland-xmas-dragodi
DTSTART:20241213T190000Z
DTEND:20241213T210000Z
LOCATION:Comune di Forio (Piazza Municipio\, 1\, 80075 Forio NA\, Italia)
SUMMARY:Forio MerryLand: XMAS DRAGODI
URL:https://www.ischiaeventi.com/eventi-ad-ischia/intrattenimento/evento/34
 089-forio-merryland-xmas-dragodi
END:VEVENT
END:VCALENDAR
