BEGIN:VCALENDAR
VERSION:2.0
PRODID:-//https://www.ischiaeventi.com///NONSGML kigkonsult.se iCalcreator 2.10.15//
METHOD:PUBLISH
BEGIN:VEVENT
UID:20260424T052048UTC-5915rhfMep@https://www.ischiaeventi.com/
DTSTAMP:20260424T052048Z
DESCRIPTION:Il corso di Panza si trasforma in una immensa cantina: tra torc
 hi\, uva\, vino\, mosto\, contadini\, viti e cibo della tradizione. Mentre
  c’è chi rammenda con la raffia i cestini\, c’è chi cucina e chi pesta l’u
 va con l’antico procedimento: il tutto accompagnato dalle danze locale htt
 ps://www.ischiaeventi.com/eventi-ad-ischia/intrattenimento/evento/29272-pa
 nza-festa-della-vendemmia
DTSTART;VALUE=DATE:20240921
LOCATION:Forio d’Ischia (80075 Forio NA\, Italia)
SUMMARY:Panza festa della vendemmia
URL:https://www.ischiaeventi.com/eventi-ad-ischia/intrattenimento/evento/29
 272-panza-festa-della-vendemmia
END:VEVENT
END:VCALENDAR
