BEGIN:VCALENDAR
VERSION:2.0
PRODID:-//https://www.ischiaeventi.com///NONSGML kigkonsult.se iCalcreator 2.10.15//
METHOD:PUBLISH
BEGIN:VEVENT
UID:20260424T051014UTC-69359Wpxdj@https://www.ischiaeventi.com/
DTSTAMP:20260424T051014Z
DESCRIPTION:Venerdì 19 dicembreOre 20.00Auditorium Scuole Medie “Don Vincen
 zo Avallone” – PanzaUna brillante commedia in due atti di Camillo Vittici\
 , inserita nel programma Natale a Forio 2025\, tra risate e riflessioni.In
 gresso libero! Non mancate! https://www.ischiaeventi.com/eventi-ad-ischia/
 intrattenimento/evento/249364-natale-a-forio-2025-sono-morto-ma-non-troppo
DTSTART:20251217T190000Z
DTEND:20251217T221600Z
LOCATION:Auditorium Scuole Medie – Panza (80075\, Forio\, Campania)
SUMMARY:Natale a Forio 2025: SONO MORTO MA NON TROPPO
URL:https://www.ischiaeventi.com/eventi-ad-ischia/intrattenimento/evento/24
 9364-natale-a-forio-2025-sono-morto-ma-non-troppo
END:VEVENT
END:VCALENDAR
