BEGIN:VCALENDAR
VERSION:2.0
PRODID:-//https://www.ischiaeventi.com///NONSGML kigkonsult.se iCalcreator 2.10.15//
METHOD:PUBLISH
BEGIN:VEVENT
UID:20260419T144446UTC-6867mUOFTK@https://www.ischiaeventi.com/
DTSTAMP:20260419T144446Z
DESCRIPTION:Spettacoli ore 11:00\, 17:00 e 18:40&nbsp\; Cartoon live! https
 ://www.ischiaeventi.com/eventi-ad-ischia/evento/45432-lo-spettacolo-delle-
 mascotte-dal-vivo
DTSTART:20250330T093000Z
DTEND:20250330T170000Z
LOCATION:Centro Parrocchiale San Pietro ( Via Colonna Vittoria\, 196\, 8007
 7 Ischia NA)
SUMMARY:Lo spettacolo delle mascotte dal vivo 
URL:https://www.ischiaeventi.com/eventi-ad-ischia/evento/45432-lo-spettacol
 o-delle-mascotte-dal-vivo
END:VEVENT
END:VCALENDAR
