BEGIN:VCALENDAR
VERSION:2.0
PRODID:-//https://www.ischiaeventi.com///NONSGML kigkonsult.se iCalcreator 2.10.15//
METHOD:PUBLISH
BEGIN:VEVENT
UID:20260424T053437UTC-9748Eo72HI@https://www.ischiaeventi.com/
DTSTAMP:20260424T053437Z
DESCRIPTION:Ore 21.30 Piazzale delle Alghe: Spettacolo del duo musicale EBB
 ANESIS Stand Gastronomico https://www.ischiaeventi.com/eventi-ad-ischia/cu
 ltura/mostre/evento/31876-san-giovan-giuseppe-della-croce-spettacolo-del-d
 uo-musicale-ebbanesis
DTSTART:20240831T193000Z
DTEND:20240831T213000Z
LOCATION:Piazzale delle Alghe (Via Boccaccio\, 1\, 80077 Ischia NA\, Italia
 )
SUMMARY:San Giovan Giuseppe della Croce: spettacolo del duo musicale EBBANE
 SIS
URL:https://www.ischiaeventi.com/eventi-ad-ischia/cultura/mostre/evento/318
 76-san-giovan-giuseppe-della-croce-spettacolo-del-duo-musicale-ebbanesis
END:VEVENT
END:VCALENDAR
