BEGIN:VCALENDAR
VERSION:2.0
PRODID:-//https://www.ischiaeventi.com///NONSGML kigkonsult.se iCalcreator 2.10.15//
METHOD:PUBLISH
BEGIN:VEVENT
UID:20260424T052335UTC-8106Ec57VW@https://www.ischiaeventi.com/
DTSTAMP:20260424T052335Z
DESCRIPTION:Piano dance Alberto di Lauro https://www.ischiaeventi.com/event
 i-ad-ischia/cultura/mostre/evento/29553-street-art
DTSTART:20240511T190000Z
DTEND:20240511T213400Z
LOCATION:Piazza Croce (Via Roma\, 80077 Ischia NA\, Italia)
SUMMARY:Street art
URL:https://www.ischiaeventi.com/eventi-ad-ischia/cultura/mostre/evento/295
 53-street-art
END:VEVENT
END:VCALENDAR
