BEGIN:VCALENDAR
VERSION:2.0
PRODID:-//https://www.ischiaeventi.com///NONSGML kigkonsult.se iCalcreator 2.10.15//
METHOD:PUBLISH
BEGIN:VEVENT
UID:20260424T051459UTC-1486gejuf1@https://www.ischiaeventi.com/
DTSTAMP:20260424T051459Z
DESCRIPTION:TORNA “KEPOS\, PAESAGGI E ARCHEOLOGIA”\nLe attività di restauro
  e valorizzazione ad IschiaIn collaborazione con il Comune di Lacco AmenoM
 ariano Nuzzo\, Soprintendente Archeologia\, Belle Arti e Paesaggio per l’A
 rea Metropolitana di Napolie Dirigente Delegato alla Soprintendenza ABAP d
 i Caserta e Benevento\nCultura è cittadinanza. Esperienze\, pratiche e fut
 uri possibiliLedo Prato\, Esperto di politiche per i beni e le attività cu
 lturali e Segretario generale dell’Associazione Mecenate 90Fabio Pagano\, 
 Direttore del Parco Archeologico dei Campi FlegreiBenedetto Valentino\, Gi
 ornalista\nINGRESSO LIBERO DALLE ORE 18:30INFORMAZIONI E PRENOTAZIONI: tel
 . 081-986220 ( dalle 10 alle 18\, Martedì\, Giovedì\, Sabato e Domenica )G
 iardini La Mortella - Via Francesco Calise 45\, Forio (NA) - www.lamortell
 a.org https://www.ischiaeventi.com/eventi-ad-ischia/cultura/dibattiti-ed-i
 ncontri-culturali/evento/73505-progetto-kepos-le-attivita-di-restauro-e-va
 lorizzazione-ad-ischia
DTSTART:20250704T170000Z
DTEND:20250704T183000Z
LOCATION:Giardini La Mortella (Via Francesco Calise\, 39 - 80075 Forio NA\,
  Italia)
SUMMARY:Progetto Kepos: Le attività di restauro e valorizzazione ad Ischia
URL:https://www.ischiaeventi.com/eventi-ad-ischia/cultura/dibattiti-ed-inco
 ntri-culturali/evento/73505-progetto-kepos-le-attivita-di-restauro-e-valor
 izzazione-ad-ischia
END:VEVENT
END:VCALENDAR
