BEGIN:VCALENDAR
VERSION:2.0
PRODID:-//https://www.ischiaeventi.com///NONSGML kigkonsult.se iCalcreator 2.10.15//
METHOD:PUBLISH
BEGIN:VEVENT
UID:20260424T063143UTC-3009DtfAHl@https://www.ischiaeventi.com/
DTSTAMP:20260424T063143Z
DESCRIPTION:Sfilata musicale della Banda della Città di Ischia https://www.
 ischiaeventi.com/eventi-ad-ischia/cultura/dibattiti-ed-incontri-culturali/
 evento/38245-lacco-ameno-in-canti-di-natale-fantasie-di-natale
DTSTART:20241225T100000Z
DTEND:20241225T120000Z
LOCATION:Piazza Capitello  (Piazza Salvatore Girardi\, 1\, 80076 Lacco Amen
 o NA\, Italia)
SUMMARY:Lacco Ameno In-canti di Natale: Fantasie di Natale
URL:https://www.ischiaeventi.com/eventi-ad-ischia/cultura/dibattiti-ed-inco
 ntri-culturali/evento/38245-lacco-ameno-in-canti-di-natale-fantasie-di-nat
 ale
END:VEVENT
END:VCALENDAR
