BEGIN:VCALENDAR
VERSION:2.0
PRODID:-//https://www.ischiaeventi.com///NONSGML kigkonsult.se iCalcreator 2.10.15//
METHOD:PUBLISH
BEGIN:VEVENT
UID:20260424T063106UTC-7313ZNkuZ9@https://www.ischiaeventi.com/
DTSTAMP:20260424T063106Z
DESCRIPTION:Presepi in Cammino percorsi presepiali\, artigianali e artistic
 i\, chiese e boutique https://www.ischiaeventi.com/eventi-ad-ischia/cultur
 a/dibattiti-ed-incontri-culturali/evento/38205-lacco-ameno-in-canti-di-nat
 ale-presepi-in-cammino
DTSTART;VALUE=DATE:20241209
LOCATION:Lacco Ameno (Piazza Santa Restituta\, 80076 Lacco Ameno NA\, Itali
 a)
SUMMARY:Lacco Ameno In-canti di Natale: presepi in cammino
URL:https://www.ischiaeventi.com/eventi-ad-ischia/cultura/dibattiti-ed-inco
 ntri-culturali/evento/38205-lacco-ameno-in-canti-di-natale-presepi-in-camm
 ino
END:VEVENT
END:VCALENDAR
