BEGIN:VCALENDAR
VERSION:2.0
PRODID:-//https://www.ischiaeventi.com///NONSGML kigkonsult.se iCalcreator 2.10.15//
METHOD:PUBLISH
BEGIN:VEVENT
UID:20260424T070726UTC-4174gCuhnN@https://www.ischiaeventi.com/
DTSTAMP:20260424T070726Z
DESCRIPTION:Inaugurazione domenica 8 dicembre ore 18.00Chiudiamo l’importan
 te stagione espositiva 2024 a Villa Arbusto con un bravissimo artista isch
 itano\, Manuel Di Chiara\, che amo molto perché\, pur essendo legato al su
 o territorio\, possiede la curiosità di aprirsi al mondo\, di poggiare il 
 suo sguardo su temi insoliti e audaci\, imponendosi negli scenari internaz
 ionali con opere e riflessioni di grande respiro\,intelligenza artistica e
  senso della contemporaneità. https://www.ischiaeventi.com/eventi-ad-ischi
 a/cultura/dibattiti-ed-incontri-culturali/evento/38088-travellers-manuel-d
 i-chiara-museo-archeologico-di-pithecusae-villa-arbusto
DTSTART:20241208T170000Z
DTEND:20241208T190000Z
LOCATION:Villa Arbusto (Corso Angelo Rizzoli\, 194\, 80076 Lacco Ameno NA\,
  Italia)
SUMMARY:Travellers: Manuel Di Chiara Museo Archeologico di Pithecusae - Vil
 la Arbusto
URL:https://www.ischiaeventi.com/eventi-ad-ischia/cultura/dibattiti-ed-inco
 ntri-culturali/evento/38088-travellers-manuel-di-chiara-museo-archeologico
 -di-pithecusae-villa-arbusto
END:VEVENT
END:VCALENDAR
