BEGIN:VCALENDAR
VERSION:2.0
PRODID:-//https://www.ischiaeventi.com///NONSGML kigkonsult.se iCalcreator 2.10.15//
METHOD:PUBLISH
BEGIN:VEVENT
UID:20260424T111325UTC-4583Zc1I8u@https://www.ischiaeventi.com/
DTSTAMP:20260424T111325Z
DESCRIPTION:Polifunzionale S. Angelo ore 19.00 'Le voci di dentro' commedia
  di Eduardo De Filippo a cura di 'Teatro da Tre Soldi https://www.ischiaev
 enti.com/eventi-ad-ischia/cultura/dibattiti-ed-incontri-culturali/evento/3
 6888-mare-copp-mas-le-voci-di-dentro
DTSTART:20241226T180000Z
DTEND:20241226T200000Z
LOCATION:Centro Polifunzionale di Fontana (Piazza Arturo Trofa - Serrara)
SUMMARY:Mare Copp Mas: 'Le voci di dentro'
URL:https://www.ischiaeventi.com/eventi-ad-ischia/cultura/dibattiti-ed-inco
 ntri-culturali/evento/36888-mare-copp-mas-le-voci-di-dentro
END:VEVENT
END:VCALENDAR
