BEGIN:VCALENDAR
VERSION:2.0
PRODID:-//https://www.ischiaeventi.com///NONSGML kigkonsult.se iCalcreator 2.10.15//
METHOD:PUBLISH
BEGIN:VEVENT
UID:20260424T105854UTC-8470vbfkUI@https://www.ischiaeventi.com/
DTSTAMP:20260424T105854Z
DESCRIPTION:Laboratori per bambini a cura de Il Mondo di Alice https://www.
 ischiaeventi.com/eventi-ad-ischia/cultura/dibattiti-ed-incontri-culturali/
 evento/36884-mare-copp-mas-laboratorio-per-bambini
DTSTART:20241213T150000Z
DTEND:20241213T170000Z
LOCATION:Centro Polifunzionale di Fontana (Piazza Arturo Trofa - Serrara)
SUMMARY:Mare Copp Mas: Laboratorio per bambini
URL:https://www.ischiaeventi.com/eventi-ad-ischia/cultura/dibattiti-ed-inco
 ntri-culturali/evento/36884-mare-copp-mas-laboratorio-per-bambini
END:VEVENT
END:VCALENDAR
