BEGIN:VCALENDAR
VERSION:2.0
PRODID:-//https://www.ischiaeventi.com///NONSGML kigkonsult.se iCalcreator 2.10.15//
METHOD:PUBLISH
BEGIN:VEVENT
UID:20260424T065529UTC-3289TC3JL9@https://www.ischiaeventi.com/
DTSTAMP:20260424T065529Z
DESCRIPTION:Tra musica\, artigianato locale\, piatti della tradizione ed in
 trattenimento per i piu piccoli (dalle ore 16.30)\, vi aspettiamo sul Cors
 o di Forio! Non mancate! https://www.ischiaeventi.com/eventi-ad-ischia/cul
 tura/dibattiti-ed-incontri-culturali/evento/36796-festa-degli-antichi-sapo
 ri
DTSTART:20241130T153000Z
DTEND:20241130T200000Z
LOCATION:Comune di Forio (Piazza Municipio\, 1\, 80075 Forio NA\, Italia)
SUMMARY:Festa degli antichi sapori
URL:https://www.ischiaeventi.com/eventi-ad-ischia/cultura/dibattiti-ed-inco
 ntri-culturali/evento/36796-festa-degli-antichi-sapori
END:VEVENT
END:VCALENDAR
