BEGIN:VCALENDAR
VERSION:2.0
PRODID:-//https://www.ischiaeventi.com///NONSGML kigkonsult.se iCalcreator 2.10.15//
METHOD:PUBLISH
BEGIN:VEVENT
UID:20260424T071259UTC-3744GnML0F@https://www.ischiaeventi.com/
DTSTAMP:20260424T071259Z
DESCRIPTION:Natale a Ischia: Stelle in strada https://www.ischiaeventi.com/
 eventi-ad-ischia/cultura/dibattiti-ed-incontri-culturali/evento/35838-nata
 le-a-ischia-stelle-in-strada
DTSTART:20241229T200000Z
DTEND:20241229T220000Z
LOCATION:Via Roma (Via Roma\, 80077 Ischia NA\, Italia)
SUMMARY:Natale a Ischia: Stelle in strada
URL:https://www.ischiaeventi.com/eventi-ad-ischia/cultura/dibattiti-ed-inco
 ntri-culturali/evento/35838-natale-a-ischia-stelle-in-strada
END:VEVENT
END:VCALENDAR
