BEGIN:VCALENDAR
VERSION:2.0
PRODID:-//https://www.ischiaeventi.com///NONSGML kigkonsult.se iCalcreator 2.10.15//
METHOD:PUBLISH
BEGIN:VEVENT
UID:20260424T071219UTC-16049ZJtxG@https://www.ischiaeventi.com/
DTSTAMP:20260424T071219Z
DESCRIPTION:15 Dicembre - Ischia PonteSERENA BRANCALE https://www.ischiaeve
 nti.com/eventi-ad-ischia/cultura/dibattiti-ed-incontri-culturali/evento/35
 834-natale-a-ischia-serena-brancale
DTSTART:20241215T200000Z
DTEND:20241215T220000Z
LOCATION:Borgo di Ischia Ponte (Piazzale Aragonese\, 1\, 80077 Ischia\, Nap
 les\, Italy)
SUMMARY:Natale a Ischia: Serena Brancale
URL:https://www.ischiaeventi.com/eventi-ad-ischia/cultura/dibattiti-ed-inco
 ntri-culturali/evento/35834-natale-a-ischia-serena-brancale
END:VEVENT
END:VCALENDAR
