BEGIN:VCALENDAR
VERSION:2.0
PRODID:-//https://www.ischiaeventi.com///NONSGML kigkonsult.se iCalcreator 2.10.15//
METHOD:PUBLISH
BEGIN:VEVENT
UID:20260424T081333UTC-27301ks5J1@https://www.ischiaeventi.com/
DTSTAMP:20260424T081333Z
DESCRIPTION:CANZONI NAPOLETANE artista partenopeo che ci delizierà con la s
 ua meravigliosa voce con famose canzoni napoletane in Forio https://www.is
 chiaeventi.com/eventi-ad-ischia/cultura/dibattiti-ed-incontri-culturali/ev
 ento/34330-forio-merryland-canzoni-napoletane
DTSTART:20250104T200000Z
DTEND:20250104T225900Z
LOCATION:Comune di Forio (Piazza Municipio\, 1\, 80075 Forio NA\, Italia)
SUMMARY:Forio MerryLand: CANZONI NAPOLETANE
URL:https://www.ischiaeventi.com/eventi-ad-ischia/cultura/dibattiti-ed-inco
 ntri-culturali/evento/34330-forio-merryland-canzoni-napoletane
END:VEVENT
END:VCALENDAR
