BEGIN:VCALENDAR
VERSION:2.0
PRODID:-//https://www.ischiaeventi.com///NONSGML kigkonsult.se iCalcreator 2.10.15//
METHOD:PUBLISH
BEGIN:VEVENT
UID:20260424T071428UTC-81590AWLwN@https://www.ischiaeventi.com/
DTSTAMP:20260424T071428Z
DESCRIPTION:QUANDO NASCETTE NINNO IX EDIZIONE il presepe teatrale napoletan
 o nei nostri caratteristici portoni in Via Torrione in collaborazione con 
 le associazioni locali in Forio https://www.ischiaeventi.com/eventi-ad-isc
 hia/cultura/dibattiti-ed-incontri-culturali/evento/34306-forio-merryland-q
 uando-nascette-ninno-ix-edizione
DTSTART:20250104T150000Z
DTEND:20250104T175900Z
LOCATION:Comune di Forio (Piazza Municipio\, 1\, 80075 Forio NA\, Italia)
SUMMARY:Forio MerryLand: QUANDO NASCETTE NINNO IX EDIZIONE
URL:https://www.ischiaeventi.com/eventi-ad-ischia/cultura/dibattiti-ed-inco
 ntri-culturali/evento/34306-forio-merryland-quando-nascette-ninno-ix-edizi
 one
END:VEVENT
END:VCALENDAR
