BEGIN:VCALENDAR
VERSION:2.0
PRODID:-//https://www.ischiaeventi.com///NONSGML kigkonsult.se iCalcreator 2.10.15//
METHOD:PUBLISH
BEGIN:VEVENT
UID:20260424T094754UTC-99346aDe9Z@https://www.ischiaeventi.com/
DTSTAMP:20260424T094754Z
DESCRIPTION:CONCERTO JAZZ per una full immersion tra sonorità jazz\, rithm 
 &amp\; blues\, soul e gospel in Piazza San Gaetano Forio&nbsp\; https://ww
 w.ischiaeventi.com/eventi-ad-ischia/cultura/dibattiti-ed-incontri-cultural
 i/evento/34302-forio-merryland-concerto-jazz
DTSTART:20250103T200000Z
DTEND:20250103T215900Z
LOCATION:Comune di Forio (Piazza Municipio\, 1\, 80075 Forio NA\, Italia)
SUMMARY:Forio MerryLand: CONCERTO JAZZ 
URL:https://www.ischiaeventi.com/eventi-ad-ischia/cultura/dibattiti-ed-inco
 ntri-culturali/evento/34302-forio-merryland-concerto-jazz
END:VEVENT
END:VCALENDAR
