BEGIN:VCALENDAR
VERSION:2.0
PRODID:-//https://www.ischiaeventi.com///NONSGML kigkonsult.se iCalcreator 2.10.15//
METHOD:PUBLISH
BEGIN:VEVENT
UID:20260424T071428UTC-5972B0xTN2@https://www.ischiaeventi.com/
DTSTAMP:20260424T071428Z
DESCRIPTION:GRAN CONCERTO GOSPEL ITALIAN SINGER nella Chiesa di San Leonard
 o Abate in Panza e ore 21.00 nella Chiesa Santa Maria di Loreto in Forio h
 ttps://www.ischiaeventi.com/eventi-ad-ischia/cultura/dibattiti-ed-incontri
 -culturali/evento/34295-forio-merryland-gran-concerto-gospel-italian-singe
 r
DTSTART:20250101T180000Z
DTEND:20250101T205900Z
LOCATION:Comune di Forio (Piazza Municipio\, 1\, 80075 Forio NA\, Italia)
SUMMARY:Forio MerryLand: GRAN CONCERTO GOSPEL ITALIAN SINGER
URL:https://www.ischiaeventi.com/eventi-ad-ischia/cultura/dibattiti-ed-inco
 ntri-culturali/evento/34295-forio-merryland-gran-concerto-gospel-italian-s
 inger
END:VEVENT
END:VCALENDAR
