BEGIN:VCALENDAR
VERSION:2.0
PRODID:-//https://www.ischiaeventi.com///NONSGML kigkonsult.se iCalcreator 2.10.15//
METHOD:PUBLISH
BEGIN:VEVENT
UID:20260424T071428UTC-7164v6URCm@https://www.ischiaeventi.com/
DTSTAMP:20260424T071428Z
DESCRIPTION:LA TOMBOLA DEI FANTASMI la tombola natalizia sulle note di anti
 che canzoni accompagnati da una compagnia di guitti d’altri tempi dove si 
 può davvero partire per un viaggio immaginario tra ombre\, storie e mister
 i persi nella nebbia del passato nel Chiostro di San Francesco in Piazza M
 unicipio Forio https://www.ischiaeventi.com/eventi-ad-ischia/cultura/dibat
 titi-ed-incontri-culturali/evento/34285-forio-merryland-la-tombola-dei-fan
 tasmi
DTSTART:20241229T200000Z
DTEND:20241229T220000Z
LOCATION:Comune di Forio (Piazza Municipio\, 1\, 80075 Forio NA\, Italia)
SUMMARY:Forio MerryLand: LA TOMBOLA DEI FANTASMI 
URL:https://www.ischiaeventi.com/eventi-ad-ischia/cultura/dibattiti-ed-inco
 ntri-culturali/evento/34285-forio-merryland-la-tombola-dei-fantasmi
END:VEVENT
END:VCALENDAR
