BEGIN:VCALENDAR
VERSION:2.0
PRODID:-//https://www.ischiaeventi.com///NONSGML kigkonsult.se iCalcreator 2.10.15//
METHOD:PUBLISH
BEGIN:VEVENT
UID:20260424T071503UTC-1311vVXR1V@https://www.ischiaeventi.com/
DTSTAMP:20260424T071503Z
DESCRIPTION:19.30 UNA MAGIA DA VIVERE IN MUSICA concerto degli allievi con 
 pianoforte a coda nell’Oratorio della Chiesa S. Maria di Loreto in Forio&n
 bsp\; https://www.ischiaeventi.com/eventi-ad-ischia/cultura/dibattiti-ed-i
 ncontri-culturali/evento/34126-forio-merryland-una-magia-da-vivere-in-musi
 ca
DTSTART:20241228T183000Z
DTEND:20241228T200000Z
LOCATION:Comune di Forio (Piazza Municipio\, 1\, 80075 Forio NA\, Italia)
SUMMARY:Forio MerryLand: UNA MAGIA DA VIVERE IN MUSICA 
URL:https://www.ischiaeventi.com/eventi-ad-ischia/cultura/dibattiti-ed-inco
 ntri-culturali/evento/34126-forio-merryland-una-magia-da-vivere-in-musica
END:VEVENT
END:VCALENDAR
