BEGIN:VCALENDAR
VERSION:2.0
PRODID:-//https://www.ischiaeventi.com///NONSGML kigkonsult.se iCalcreator 2.10.15//
METHOD:PUBLISH
BEGIN:VEVENT
UID:20260424T071504UTC-5152LGXvGs@https://www.ischiaeventi.com/
DTSTAMP:20260424T071504Z
DESCRIPTION:20.00 CONCERTO DI NATALE BANDA MUSICALE DI PANZA tradizione in 
 concerto di musiche natalizie nella Parrocchia di San Leonardo in Panza\n&
 nbsp\; https://www.ischiaeventi.com/eventi-ad-ischia/cultura/dibattiti-ed-
 incontri-culturali/evento/34120-forio-merryland-concerto-di-natale-banda-m
 usicale-di-panza
DTSTART:20241226T190000Z
DTEND:20241226T220000Z
LOCATION:Comune di Forio (Piazza Municipio\, 1\, 80075 Forio NA\, Italia)
SUMMARY:Forio MerryLand: CONCERTO DI NATALE BANDA MUSICALE DI PANZA 
URL:https://www.ischiaeventi.com/eventi-ad-ischia/cultura/dibattiti-ed-inco
 ntri-culturali/evento/34120-forio-merryland-concerto-di-natale-banda-music
 ale-di-panza
END:VEVENT
END:VCALENDAR
